BEGIN:VCALENDAR
VERSION:2.0
PRODID:-//The Blues Dogs - ECPv6.15.17//NONSGML v1.0//EN
CALSCALE:GREGORIAN
METHOD:PUBLISH
X-ORIGINAL-URL:https://www.bluesdogsband.com
X-WR-CALDESC:Events for The Blues Dogs
REFRESH-INTERVAL;VALUE=DURATION:PT1H
X-Robots-Tag:noindex
X-PUBLISHED-TTL:PT1H
BEGIN:VTIMEZONE
TZID:America/Denver
BEGIN:DAYLIGHT
TZOFFSETFROM:-0700
TZOFFSETTO:-0600
TZNAME:MDT
DTSTART:20250309T090000
END:DAYLIGHT
BEGIN:STANDARD
TZOFFSETFROM:-0600
TZOFFSETTO:-0700
TZNAME:MST
DTSTART:20251102T080000
END:STANDARD
BEGIN:DAYLIGHT
TZOFFSETFROM:-0700
TZOFFSETTO:-0600
TZNAME:MDT
DTSTART:20260308T090000
END:DAYLIGHT
BEGIN:STANDARD
TZOFFSETFROM:-0600
TZOFFSETTO:-0700
TZNAME:MST
DTSTART:20261101T080000
END:STANDARD
BEGIN:DAYLIGHT
TZOFFSETFROM:-0700
TZOFFSETTO:-0600
TZNAME:MDT
DTSTART:20270314T090000
END:DAYLIGHT
BEGIN:STANDARD
TZOFFSETFROM:-0600
TZOFFSETTO:-0700
TZNAME:MST
DTSTART:20271107T080000
END:STANDARD
END:VTIMEZONE
BEGIN:VEVENT
DTSTART;TZID=America/Denver:20260418T000000
DTEND;TZID=America/Denver:20260418T160000
DTSTAMP:20260419T164636
CREATED:20260305T190920Z
LAST-MODIFIED:20260414T232245Z
UID:2386-1776470400-1776528000@www.bluesdogsband.com
SUMMARY:(CANCELED) THUNDER MOUNTAIN HARLEY DAVIDSON
DESCRIPTION:BARE BONES \nCanceled due to weather (not gonna be a good day for riding)…
URL:https://www.bluesdogsband.com/event/thunder-mountain-harley-davidson/
LOCATION:Thunder Mountain Harley-Davidson\, 4250 Byrd Dr\, Loveland\, Colorado
ATTACH;FMTTYPE=image/jpeg:https://www.bluesdogsband.com/wp-content/uploads/2026/03/IMG_7928.jpeg
END:VEVENT
BEGIN:VEVENT
DTSTART;TZID=America/Denver:20260425T133000
DTEND;TZID=America/Denver:20260425T143000
DTSTAMP:20260419T164636
CREATED:20260305T191230Z
LAST-MODIFIED:20260305T192316Z
UID:2390-1777123800-1777127400@www.bluesdogsband.com
SUMMARY:COLORADO ROOM
DESCRIPTION:FOCOMX
URL:https://www.bluesdogsband.com/event/colrado-room/
LOCATION:colorado room\, 642 S College Ave\, Fort Collins\, CO\, 80524
ATTACH;FMTTYPE=image/jpeg:https://www.bluesdogsband.com/wp-content/uploads/2026/03/IMG_7301-e1772738182296.jpeg
END:VEVENT
BEGIN:VEVENT
DTSTART;TZID=America/Denver:20260502T063000
DTEND;TZID=America/Denver:20260502T213000
DTSTAMP:20260419T164636
CREATED:20260305T193312Z
LAST-MODIFIED:20260305T194002Z
UID:2397-1777703400-1777757400@www.bluesdogsband.com
SUMMARY:Horsetooth Tavern
DESCRIPTION:BARE BONES
URL:https://www.bluesdogsband.com/event/horsetooth-tavern/
LOCATION:Horsetooth Tavern
ATTACH;FMTTYPE=image/jpeg:https://www.bluesdogsband.com/wp-content/uploads/2026/03/image5.jpeg
END:VEVENT
BEGIN:VEVENT
DTSTART;TZID=America/Denver:20260530T123000
DTEND;TZID=America/Denver:20260530T150000
DTSTAMP:20260419T164636
CREATED:20260305T194455Z
LAST-MODIFIED:20260305T194531Z
UID:2402-1780144200-1780153200@www.bluesdogsband.com
SUMMARY:BLUES & CRUISE
DESCRIPTION:BARE BONES
URL:https://www.bluesdogsband.com/event/blues-cruise/
LOCATION:Loveland Foundry Plaza\, Loveland\, CO\, 80537
ATTACH;FMTTYPE=image/jpeg:https://www.bluesdogsband.com/wp-content/uploads/2026/03/image11.jpeg
END:VEVENT
BEGIN:VEVENT
DTSTART;TZID=America/Denver:20260619T193000
DTEND;TZID=America/Denver:20260619T220000
DTSTAMP:20260419T164636
CREATED:20260305T205734Z
LAST-MODIFIED:20260305T205910Z
UID:2414-1781897400-1781906400@www.bluesdogsband.com
SUMMARY:AVOGADRO'S NUMBER
DESCRIPTION:
URL:https://www.bluesdogsband.com/event/avogadros-number-2/
LOCATION:Avogadro’s Number\, 605 South Mason St\, Fort Collins\, Colorado\, 80524
ATTACH;FMTTYPE=image/png:https://www.bluesdogsband.com/wp-content/uploads/2026/03/IMG_9073-e1772744138164.png
END:VEVENT
BEGIN:VEVENT
DTSTART;TZID=America/Denver:20260718T200000
DTEND;TZID=America/Denver:20260718T220000
DTSTAMP:20260419T164636
CREATED:20260305T204450Z
LAST-MODIFIED:20260305T205320Z
UID:2405-1784404800-1784412000@www.bluesdogsband.com
SUMMARY:WINDSOR BEER WALK
DESCRIPTION:
URL:https://www.bluesdogsband.com/event/avogadros/
LOCATION:Peculiar Ales\, 301 Main St\, Windsor\, CO\, 80550
ATTACH;FMTTYPE=image/png:https://www.bluesdogsband.com/wp-content/uploads/2026/03/IMG_9072-e1772743479225.png
END:VEVENT
BEGIN:VEVENT
DTSTART;TZID=America/Denver:20260801T193000
DTEND;TZID=America/Denver:20260801T220000
DTSTAMP:20260419T164636
CREATED:20260305T210304Z
LAST-MODIFIED:20260305T210304Z
UID:2416-1785612600-1785621600@www.bluesdogsband.com
SUMMARY:AVOGADRO'S NUMBER
DESCRIPTION:
URL:https://www.bluesdogsband.com/event/avogadros-number-3/
LOCATION:Avogadro’s Number\, 605 South Mason St\, Fort Collins\, Colorado\, 80524
ATTACH;FMTTYPE=image/png:https://www.bluesdogsband.com/wp-content/uploads/2026/03/IMG_9076-e1772744571811.png
END:VEVENT
BEGIN:VEVENT
DTSTART;TZID=America/Denver:20260808T070000
DTEND;TZID=America/Denver:20260808T210000
DTSTAMP:20260419T164636
CREATED:20260305T210617Z
LAST-MODIFIED:20260305T210617Z
UID:2419-1786172400-1786222800@www.bluesdogsband.com
SUMMARY:PERFORMANCE PARK
DESCRIPTION:
URL:https://www.bluesdogsband.com/event/performance-park/
LOCATION:Performance Park\, 435 W Elkhorn Ave\, Estes Park\, CO\, 80517
ATTACH;FMTTYPE=image/jpeg:https://www.bluesdogsband.com/wp-content/uploads/2026/03/IMG_4724.jpeg
END:VEVENT
BEGIN:VEVENT
DTSTART;TZID=America/Denver:20260821T183000
DTEND;TZID=America/Denver:20260821T203000
DTSTAMP:20260419T164636
CREATED:20260305T211131Z
LAST-MODIFIED:20260305T211313Z
UID:2422-1787337000-1787344200@www.bluesdogsband.com
SUMMARY:BIKE NIGHT
DESCRIPTION:
URL:https://www.bluesdogsband.com/event/bike-night-3/
LOCATION:Thunder Mountain Harley-Davidson\, 4250 Byrd Dr\, Loveland\, Colorado
ATTACH;FMTTYPE=image/jpeg:https://www.bluesdogsband.com/wp-content/uploads/2026/03/IMG_3614-2-scaled-e1772745187417.jpg
END:VEVENT
BEGIN:VEVENT
DTSTART;TZID=America/Denver:20260926T193000
DTEND;TZID=America/Denver:20260926T220000
DTSTAMP:20260419T164636
CREATED:20260305T211642Z
LAST-MODIFIED:20260305T211642Z
UID:2426-1790451000-1790460000@www.bluesdogsband.com
SUMMARY:AVOGADRO'S NUMBER
DESCRIPTION:
URL:https://www.bluesdogsband.com/event/avogadros-number-4/
LOCATION:Avogadro’s Number\, 605 South Mason St\, Fort Collins\, Colorado\, 80524
ATTACH;FMTTYPE=image/png:https://www.bluesdogsband.com/wp-content/uploads/2026/03/IMG_9057-e1772745391717.png
END:VEVENT
END:VCALENDAR